BEGIN:VCALENDAR
VERSION:2.0
PRODID:-//Laserlab-Europe AISBL - ECPv6.15.20//NONSGML v1.0//EN
CALSCALE:GREGORIAN
METHOD:PUBLISH
X-WR-CALNAME:Laserlab-Europe AISBL
X-ORIGINAL-URL:https://laserlab-europe.eu
X-WR-CALDESC:Events for Laserlab-Europe AISBL
REFRESH-INTERVAL;VALUE=DURATION:PT1H
X-Robots-Tag:noindex
X-PUBLISHED-TTL:PT1H
BEGIN:VTIMEZONE
TZID:Europe/Berlin
BEGIN:DAYLIGHT
TZOFFSETFROM:+0100
TZOFFSETTO:+0200
TZNAME:CEST
DTSTART:20210328T010000
END:DAYLIGHT
BEGIN:STANDARD
TZOFFSETFROM:+0200
TZOFFSETTO:+0100
TZNAME:CET
DTSTART:20211031T010000
END:STANDARD
BEGIN:DAYLIGHT
TZOFFSETFROM:+0100
TZOFFSETTO:+0200
TZNAME:CEST
DTSTART:20220327T010000
END:DAYLIGHT
BEGIN:STANDARD
TZOFFSETFROM:+0200
TZOFFSETTO:+0100
TZNAME:CET
DTSTART:20221030T010000
END:STANDARD
BEGIN:DAYLIGHT
TZOFFSETFROM:+0100
TZOFFSETTO:+0200
TZNAME:CEST
DTSTART:20230326T010000
END:DAYLIGHT
BEGIN:STANDARD
TZOFFSETFROM:+0200
TZOFFSETTO:+0100
TZNAME:CET
DTSTART:20231029T010000
END:STANDARD
END:VTIMEZONE
BEGIN:VEVENT
DTSTART;TZID=Europe/Berlin:20221019T160000
DTEND;TZID=Europe/Berlin:20221019T170000
DTSTAMP:20260425T124114
CREATED:20250130T110303Z
LAST-MODIFIED:20250402T075602Z
UID:10000085-1666195200-1666198800@laserlab-europe.eu
SUMMARY:Laserlab-Europe Talk: Laser microscopy for the study of infectious disease
DESCRIPTION:Speaker: Dave Clarke (CLF\, UK)  \n			\n				Watch the Talk\n			\n				\n				\n				\n				\n				Infectious diseases of humans\, animals\, and plants have very significant societal and economic impacts. The COVID-19 pandemic is an obvious example\, and another major threat is the increasing problem of antimicrobial resistance. Climate change is bringing increasing pressure on crops\, making them more susceptible to diseases\, with potentially serious consequences for food supplies. \nOptical microscopy techniques have made a significant impact across many areas of human\, animal\, and plant biology\, and research into infectious disease is no exception. In this talk Dave Clarke (CLF) will give an overview of some of the latest laser-based optical microscopy methods\, and show examples from the Central Laser Facility’s research programme showing how they are providing valuable insights into the biology underlying infectious disease\, and helping point the way to new treatments.
URL:https://laserlab-europe.eu/event/laserlab-europe-talk-laser-microscopy-for-the-study-of-infectious-disease/
LOCATION:Online
CATEGORIES:expert group lasers for health,laserlab-europe events,laserlab-europe talk
ATTACH;FMTTYPE=image/jpeg:https://laserlab-europe.eu/wp-content/uploads/2024/11/lle-talk_2022-10_clarke_infectious-disease.jpg
END:VEVENT
END:VCALENDAR