BEGIN:VCALENDAR
VERSION:2.0
PRODID:-//Laserlab-Europe AISBL - ECPv6.15.20//NONSGML v1.0//EN
CALSCALE:GREGORIAN
METHOD:PUBLISH
X-WR-CALNAME:Laserlab-Europe AISBL
X-ORIGINAL-URL:https://laserlab-europe.eu
X-WR-CALDESC:Events for Laserlab-Europe AISBL
REFRESH-INTERVAL;VALUE=DURATION:PT1H
X-Robots-Tag:noindex
X-PUBLISHED-TTL:PT1H
BEGIN:VTIMEZONE
TZID:Europe/Berlin
BEGIN:DAYLIGHT
TZOFFSETFROM:+0100
TZOFFSETTO:+0200
TZNAME:CEST
DTSTART:20240331T010000
END:DAYLIGHT
BEGIN:STANDARD
TZOFFSETFROM:+0200
TZOFFSETTO:+0100
TZNAME:CET
DTSTART:20241027T010000
END:STANDARD
BEGIN:DAYLIGHT
TZOFFSETFROM:+0100
TZOFFSETTO:+0200
TZNAME:CEST
DTSTART:20250330T010000
END:DAYLIGHT
BEGIN:STANDARD
TZOFFSETFROM:+0200
TZOFFSETTO:+0100
TZNAME:CET
DTSTART:20251026T010000
END:STANDARD
BEGIN:DAYLIGHT
TZOFFSETFROM:+0100
TZOFFSETTO:+0200
TZNAME:CEST
DTSTART:20260329T010000
END:DAYLIGHT
BEGIN:STANDARD
TZOFFSETFROM:+0200
TZOFFSETTO:+0100
TZNAME:CET
DTSTART:20261025T010000
END:STANDARD
END:VTIMEZONE
BEGIN:VEVENT
DTSTART;VALUE=DATE:20251208
DTEND;VALUE=DATE:20251212
DTSTAMP:20260421T183049
CREATED:20251121T125605Z
LAST-MODIFIED:20251121T125605Z
UID:10000276-1765152000-1765497599@laserlab-europe.eu
SUMMARY:Advances in 3OM and Photonics Technologies 2025
DESCRIPTION:The aim of this Conference is to bring together specialists from different fields that are related to Optics & Photonics\, key enabling technologies at European and global level. The scope is to put forth these two domains in the eyes of the Romanian community and to provide a forum for international experts. \nBenefiting from the endorsement of SPIE\, the International Society of Optics and Photonics (https://spie.org/)\, the program includes dedicated sessions to leading infrastructure development programs\, including the Extreme Light Infrastructure (ELI\, https://www.eli-laser.eu/) and the Romanian IPCEI (Important Project of Common European Interest) on microelectronics. These workshops aim to bridge the gap between various scientific communities—including Physics\, Electrical and Mechanical Engineering\, and Medicine. \nThe final scope is to develop an Optics & Photonics Romanian Platform\, well linked to international scientific societies and bringing together academia and industry – with a capability to help setting National priorities and foster international collaboration for these two domains\, Optics and Photonics\, which have been responsible for over 11% of the global GDP. \nTopics\n\nOptics & Photonics\nOpto-Mechatronics\nLaser Scanners\nOptical Devices\nOptical Design\nAutomation & Control\nOpto-Mechanics\nHybrid photonic-microelectronic systems\nFinite Element Analysis (FEA)\nKinematics & Dynamics\nLaser Systems\nApplied Physics\nOptical Metrology\nBiomedical Imaging\nOptical Coherence Tomography (OCT)\nPhoto-acoustics\nBiomaterials\nDental Materials & Biotechnology\nLasers in Medicine\nMaterial Studies\nNon-Destructive Testing (NDT)
URL:https://laserlab-europe.eu/event/advances-in-3om-and-photonics-technologies-2025/
LOCATION:Timisoara\, Timisoara\, Romania
CATEGORIES:conference calendar
END:VEVENT
BEGIN:VEVENT
DTSTART;VALUE=DATE:20251209
DTEND;VALUE=DATE:20251213
DTSTAMP:20260421T183049
CREATED:20250617T082049Z
LAST-MODIFIED:20250826T154114Z
UID:10000190-1765238400-1765583999@laserlab-europe.eu
SUMMARY:9th Asian Workshop on Molecular Spectroscopy (AWMS 2025)
DESCRIPTION:
URL:https://laserlab-europe.eu/event/9th-asian-workshop-on-molecular-spectroscopy-awms-2025/
LOCATION:Sydney\, Sydney\, Australia
CATEGORIES:conference calendar
END:VEVENT
END:VCALENDAR