BEGIN:VCALENDAR
VERSION:2.0
PRODID:-//Laserlab-Europe AISBL - ECPv6.15.20//NONSGML v1.0//EN
CALSCALE:GREGORIAN
METHOD:PUBLISH
X-ORIGINAL-URL:https://laserlab-europe.eu
X-WR-CALDESC:Events for Laserlab-Europe AISBL
REFRESH-INTERVAL;VALUE=DURATION:PT1H
X-Robots-Tag:noindex
X-PUBLISHED-TTL:PT1H
BEGIN:VTIMEZONE
TZID:Europe/Berlin
BEGIN:DAYLIGHT
TZOFFSETFROM:+0100
TZOFFSETTO:+0200
TZNAME:CEST
DTSTART:20250330T010000
END:DAYLIGHT
BEGIN:STANDARD
TZOFFSETFROM:+0200
TZOFFSETTO:+0100
TZNAME:CET
DTSTART:20251026T010000
END:STANDARD
BEGIN:DAYLIGHT
TZOFFSETFROM:+0100
TZOFFSETTO:+0200
TZNAME:CEST
DTSTART:20260329T010000
END:DAYLIGHT
BEGIN:STANDARD
TZOFFSETFROM:+0200
TZOFFSETTO:+0100
TZNAME:CET
DTSTART:20261025T010000
END:STANDARD
BEGIN:DAYLIGHT
TZOFFSETFROM:+0100
TZOFFSETTO:+0200
TZNAME:CEST
DTSTART:20270328T010000
END:DAYLIGHT
BEGIN:STANDARD
TZOFFSETFROM:+0200
TZOFFSETTO:+0100
TZNAME:CET
DTSTART:20271031T010000
END:STANDARD
END:VTIMEZONE
BEGIN:VEVENT
DTSTART;VALUE=DATE:20260301
DTEND;VALUE=DATE:20260307
DTSTAMP:20260422T184633
CREATED:20251112T102552Z
LAST-MODIFIED:20251112T103119Z
UID:10000271-1772323200-1772841599@laserlab-europe.eu
SUMMARY:DPG Spring Meeting of the Atomic\, Molecular\, Quantum Optics and Photonics Section (SAMOP)
DESCRIPTION:The conference is jointly organised by the following DPG associations: \n– Working Group on Equal Opportunities– Working Group “Young DPG”– Atomic\, Molecular\, Quantum Optics and Photonics Section (SAMOP): \n\nAtomic Physics Division\nMass Spectrometry Division\nMolecular Physics Division\nQuantum Optics and Photonic Division\nShort Time-scale Physics and Applied Laser Physics Division\n\n\n\n\n Abstracts are due by December 1st\, 2025 at: https://www.dpg-tagung.de/mz26/submission.html \n			\n				More information
URL:https://laserlab-europe.eu/event/dpg-spring-meeting-samop-202603/
LOCATION:Mainz\, Mainz\, Germany
CATEGORIES:conference calendar
END:VEVENT
BEGIN:VEVENT
DTSTART;VALUE=DATE:20260303
DTEND;VALUE=DATE:20260304
DTSTAMP:20260422T184633
CREATED:20260205T105137Z
LAST-MODIFIED:20260205T105137Z
UID:10000310-1772496000-1772582399@laserlab-europe.eu
SUMMARY:3rd Women in Photochemistry Symposium
DESCRIPTION:
URL:https://laserlab-europe.eu/event/3rd-women-in-photochemistry-symposium/
LOCATION:London\, London\, United Kingdom
CATEGORIES:conference calendar
END:VEVENT
BEGIN:VEVENT
DTSTART;VALUE=DATE:20260308
DTEND;VALUE=DATE:20260314
DTSTAMP:20260422T184633
CREATED:20251125T130619Z
LAST-MODIFIED:20251125T130619Z
UID:10000280-1772928000-1773446399@laserlab-europe.eu
SUMMARY:DPG Spring Meeting of the Condensed Matter Section (SKM)
DESCRIPTION:The deadline for submitting contributed talks and poster presentations is Monday\, 1 December 2025. \nThe conference is jointly organised by the following DPG associations: \nCondensed Matter Section (SKM) \n\nBiological Physics Division\nChemical and Polymer Physics Division\nDynamics and Statistical Physics Division\nFunctional Materials Division\nLow Temperature Physics Division\nMagnetism Division with working group Magnetism\nMetal and Material Physics Division with working group Metal and Material Physics\nPhysics of Socio-economic Systems Division\nSemiconductor Physics Division\nSurface Science Division\nThin Films Division\nVacuum Science and Technology Division\n\nEnvironmental Physics Division \nPhysics Education Division \nQuantum Information Division \nWorking Group on Accelerator Physics \nWorking Group Climate \nWorking Group on Equal Opportunities \nWorking Group on Industry and Business \nWorking Group on Physics\, Modern IT and Artificial Intelligence \nWorking Group “Young DPG” \nWorking Group young Leaders in Physics
URL:https://laserlab-europe.eu/event/dpg-spring-meeting-of-the-condensed-matter-section-skm/
LOCATION:Dresden\, Dresden\, Germany
CATEGORIES:conference calendar
END:VEVENT
BEGIN:VEVENT
DTSTART;VALUE=DATE:20260309
DTEND;VALUE=DATE:20260312
DTSTAMP:20260422T184633
CREATED:20251117T083709Z
LAST-MODIFIED:20260114T125340Z
UID:10000275-1773014400-1773273599@laserlab-europe.eu
SUMMARY:ELIXIR2026
DESCRIPTION:The ELIXIR2026 workshop will take place at SOLEIL from March 9 to 11\, 2026. \nThe development of vacuum-compatible liquid sampling sources has enabled the use of ionizing radiation sources (XUV and X-rays) to study a variety of phenomena in solution\, such as reaction dynamics\, solvation\, or interfacial chemistry. This development is constantly evolving with improvements in light sources\, such as the relative democratization of laser sources based on high-order harmonic generation\, and improvements in liquid targets with for instance the recent development of stable flat liquid jets with sub-micrometer thicknesses. \nThe spectroscopic tools available are now extremely varied and reflect the diversity of the scientific communities interested in the study of liquid-phase phenomena at the molecular scale. They include time-resolved photoemission spectroscopy (femtosecond and even attosecond)\, highly nonlinear optics via liquid-phase HHG\, probes of chirality (circular X-ray dichroism\, PECD)\, RIXS\, coincidence measurements (e-\,e-)\, etc. \nThis workshop will bring together users of these different tools. It will also provide an opportunity to compare and improve theoretical aspects of molecular dynamics in the liquid phase\, thanks to the participation\, we hope\, of European experts in the field. \n			\n				More information
URL:https://laserlab-europe.eu/event/elixir2026/
LOCATION:Saint-Aubin\, Saint-Aubin\, France
CATEGORIES:conference calendar
END:VEVENT
BEGIN:VEVENT
DTSTART;TZID=Europe/Berlin:20260312T150000
DTEND;TZID=Europe/Berlin:20260312T170000
DTSTAMP:20260422T184633
CREATED:20260302T100435Z
LAST-MODIFIED:20260302T100520Z
UID:10000322-1773327600-1773334800@laserlab-europe.eu
SUMMARY:RIANA webinar "Small-Angle Scattering Applied to Bio and Nanomaterials"
DESCRIPTION:Speaker: Debasish Saha\, Juelich centre for Neutron Science (JCNS)\, Forschungszentrum Juelich GmbH\, Germany \nSmall-Angle Scattering (SAS) is a powerful technique that provides information about the structural organization of matter and intra- and or intermolecular interactions in the system at different external conditions. The length scales obtained from the analysis of SAS data are within the limit of a few nanometers to a few hundred nanometers. Among different SAS techniques\, Small-Angle X-ray Scattering (SAXS) provides excellent resolution and shorter measurement time\, enable us to study different in situ formation of nanomaterials. \nHowever\, such benefits are mostly limited to high atomic number (Z) materials\, whereas provides poor contrast for low-Z materials\, especially for biological systems. On the other hand\, the isotope labelling and solvent-contrast variation in Small-Angle Neutron Scattering (SANS) gives an excellent opportunity to extract unique information of individual components in multi-component heterogenous complexes. In addition\, the magnetic moment of neutrons allows to study magnetism and magnetic materials at the nanoscale using the magnetic-SANS technique. In this talk\, the basics of small-angle scattering and its applications in bio and nanomaterials will be discussed. \nLearn more about the RIANA project: https://riana-project.eu/ \n 
URL:https://laserlab-europe.eu/event/riana-webinar-small-angle-scattering-applied-to-bio-and-nanomaterials/
LOCATION:Online
CATEGORIES:conference calendar,laserlab-europe events,projects,riana
ATTACH;FMTTYPE=image/png:https://laserlab-europe.eu/wp-content/uploads/2024/11/riana_logo.png
END:VEVENT
BEGIN:VEVENT
DTSTART;VALUE=DATE:20260315
DTEND;VALUE=DATE:20260321
DTSTAMP:20260422T184633
CREATED:20251007T154309Z
LAST-MODIFIED:20251007T154309Z
UID:10000244-1773532800-1774051199@laserlab-europe.eu
SUMMARY:Focus Session on Interfacial Charge\, Spin\, and Chemical Dynamics in Energy and Quantum Materials
DESCRIPTION:Dear colleagues\, \nAbstract submission for the Focus Session on Interfacial Charge\, Spin\, and Chemical Dynamics in Energy and Quantum Materials at the APS March Meeting in Denver\, CO\, USA (March 15-20\, 2026) is now open until October 23. We would like to invite you to submit your abstract to this session (number 16.01.09\, in DCOMP) to highlight recent progress in theory and simulation methods and their application to modeling dynamics at solid-solid interfaces\, including 2D materials\, topological materials\, and solid-gas phase interfaces of relevance to energy and quantum materials\, as well as experimental studies to be interpreted through or integrated with such computational approaches. \nWe expect this session to bring together contributions from research on method development and its application to the simulations of charge\, spin\, and chemical dynamics and energy\, charge\, and spin transport through materials interfaces\, including those of organic and hybrid organic/inorganic structures and devices. This session will include theory and method development for electron-phonon coupling\, spin-orbit interactions\, and excited state dynamics for solid surfaces and interfaces\, and for machine-learning models for accelerated prediction of complex interfacial dynamics including non-adiabatic processes and quantum coherent phenomena. It will also include experimental studies that elucidate the dynamics and transport at these interfaces. \nWe look forward to seeing you in Denver\,\nOliver Monti\, Johannes Voss\, Aiichiro Nakano and Duy Le
URL:https://laserlab-europe.eu/event/focus-session-on-interfacial-charge-spin-and-chemical-dynamics-in-energy-and-quantum-materials/
LOCATION:Denver\, Denver\, CO\, United States
CATEGORIES:conference calendar
END:VEVENT
BEGIN:VEVENT
DTSTART;VALUE=DATE:20260316
DTEND;VALUE=DATE:20260319
DTSTAMP:20260422T184633
CREATED:20251211T104107Z
LAST-MODIFIED:20251211T104322Z
UID:10000288-1773619200-1773878399@laserlab-europe.eu
SUMMARY:4th ELIMED Workshop
DESCRIPTION:
URL:https://laserlab-europe.eu/event/4th-elimed-workshop/
LOCATION:Dolní Břežany\, Dolní Břežany\, Czech Republic
CATEGORIES:conference calendar
END:VEVENT
BEGIN:VEVENT
DTSTART;VALUE=DATE:20260316
DTEND;VALUE=DATE:20260319
DTSTAMP:20260422T184633
CREATED:20251215T151658Z
LAST-MODIFIED:20251215T153109Z
UID:10000292-1773619200-1773878399@laserlab-europe.eu
SUMMARY:1st RIANA Users Meeting in nanoscience and nanotechnology
DESCRIPTION:Registrations for the 1st RIANA Users Meeting and the RIANA Annual Meeting is now open! \nThe meeting will take place at the premises of the Foundation for Research and Technology–Hellas (FORTH) in Heraklion\, Crete\, Greece. \n1st Users Meeting: 16–18 March 2026RIANA Annual Meeting: 18–20 March 2026 \nRemote participation will be available for those unable to attend in person. \nThe 1st RIANA Users Meeting offers a unique opportunity to present your project ideas\, showcase results\, and connect with fellow researchers and RIANA facility representatives. We anticipate that the Principal Investigator of each Access Project\, or a delegate\, will participate in person\, contributing with an oral presentation\, sharing their valuable insights and fostering discussions within the RIANA community. Additional participants are welcome to join remotely. \nWe look forward to meeting you in Heraklion and making the 1st RIANA Users Meeting a lively and productive event! \nPlease note: The registration deadline is 31/12/2025. \n			\n			\n				\n				\n				\n				\n			\n				\n				\n				\n				\n				\n				\n				More information\n			\n			\n				\n				\n				\n				\n				\n				Registration
URL:https://laserlab-europe.eu/event/riana-users-meeting-2026/
LOCATION:Heraklion\, Heraklion\, Crete\, Greece
CATEGORIES:conference calendar,laserlab-europe events,projects,riana
ATTACH;FMTTYPE=image/jpeg:https://laserlab-europe.eu/wp-content/uploads/forth_building.jpg
END:VEVENT
BEGIN:VEVENT
DTSTART;VALUE=DATE:20260323
DTEND;VALUE=DATE:20260326
DTSTAMP:20260422T184633
CREATED:20260112T080520Z
LAST-MODIFIED:20260112T080520Z
UID:10000301-1774224000-1774483199@laserlab-europe.eu
SUMMARY:W4Q: Quantum Science Conference
DESCRIPTION:The W4Q: Quantum Science Conference (Palma de Mallorca\, Spain\, March 23-25\, 2026) brings together cutting-edge research from all areas of quantum physics: from foundations to quantum technology applications. \nIn the last 4 years of regular meetings\, Women 4 Quantum has been growing as a network of senior scientists. We have published our Manifesto of Values (arxiv and Comm. Phys.)\, shared our reflections in numerous public events\, and announced the W4Q association\, hosted by Paris Sorbonne. \nThis year we are launching this international conference to promote scientific excellence through diversity\, connect with early-career researchers\, and create new lasting international collaborations in quantum science. We aim to offer a welcoming and friendly environment that encourages scientific exchanges. Open to everyone\, regardless of gender\, we especially encourage young researchers and early career researchers to join us\, to get to know our community\, to discuss new ideas and to present their research. \nTopics: Quantum Optics\, Atomic and Molecular Physics\, Many Body Quantum Physics\, Quantum Information\, Quantum Thermodynamics\, Quantum Computation and Simulations\, Quantum Sensing\, Quantum Communications\, Foundations and Technological Applications. \nContributions: The conference will comprise talks\, posters\, and a round table.
URL:https://laserlab-europe.eu/event/w4q-quantum-science-conference/
LOCATION:Palma de Mallorca\, Palma de Mallorca\, Spain
CATEGORIES:conference calendar
END:VEVENT
BEGIN:VEVENT
DTSTART;VALUE=DATE:20260329
DTEND;VALUE=DATE:20260402
DTSTAMP:20260422T184633
CREATED:20251211T103515Z
LAST-MODIFIED:20251211T103515Z
UID:10000286-1774742400-1775087999@laserlab-europe.eu
SUMMARY:Parity Violation in Molecules Seminar
DESCRIPTION:
URL:https://laserlab-europe.eu/event/parity-violation-in-molecules-seminar/
LOCATION:Bad Honnef\, Germany
CATEGORIES:conference calendar
END:VEVENT
END:VCALENDAR