BEGIN:VCALENDAR
VERSION:2.0
PRODID:-//Laserlab-Europe AISBL - ECPv6.15.20//NONSGML v1.0//EN
CALSCALE:GREGORIAN
METHOD:PUBLISH
X-ORIGINAL-URL:https://laserlab-europe.eu
X-WR-CALDESC:Events for Laserlab-Europe AISBL
REFRESH-INTERVAL;VALUE=DURATION:PT1H
X-Robots-Tag:noindex
X-PUBLISHED-TTL:PT1H
BEGIN:VTIMEZONE
TZID:Europe/Berlin
BEGIN:DAYLIGHT
TZOFFSETFROM:+0100
TZOFFSETTO:+0200
TZNAME:CEST
DTSTART:20250330T010000
END:DAYLIGHT
BEGIN:STANDARD
TZOFFSETFROM:+0200
TZOFFSETTO:+0100
TZNAME:CET
DTSTART:20251026T010000
END:STANDARD
BEGIN:DAYLIGHT
TZOFFSETFROM:+0100
TZOFFSETTO:+0200
TZNAME:CEST
DTSTART:20260329T010000
END:DAYLIGHT
BEGIN:STANDARD
TZOFFSETFROM:+0200
TZOFFSETTO:+0100
TZNAME:CET
DTSTART:20261025T010000
END:STANDARD
BEGIN:DAYLIGHT
TZOFFSETFROM:+0100
TZOFFSETTO:+0200
TZNAME:CEST
DTSTART:20270328T010000
END:DAYLIGHT
BEGIN:STANDARD
TZOFFSETFROM:+0200
TZOFFSETTO:+0100
TZNAME:CET
DTSTART:20271031T010000
END:STANDARD
END:VTIMEZONE
BEGIN:VEVENT
DTSTART;VALUE=DATE:20260831
DTEND;VALUE=DATE:20260905
DTSTAMP:20260422T232622
CREATED:20260331T140929Z
LAST-MODIFIED:20260331T140929Z
UID:10000337-1788134400-1788566399@laserlab-europe.eu
SUMMARY:ELI Summer School 2026
DESCRIPTION:Designed for students and early-career researchers\, ELISS provides participants with a comprehensive introduction to the generation and applications of intense lasers and instruments based on them. The programme will include a combination of extended tutorials and overview lectures\, along with an opportunity to obtain practical skills through hands-on activities\, laboratory tours\, and more. ELISS is open to Undergraduate\, Master’s\, and PhD students\, as well as early-career researchers interested in laser science and its applications. \nWhat to Expect \n\nA comprehensive scientific programme with high-level speakers\nGuided laboratory tours of the ELI ALPS Facility\nHands-on activities and practical insights into experimental research\nNetworking opportunities with peers\, speakers\, and ELI staff\nInformation about career opportunities at ELI\nPoster competition with prizes for outstanding contributions.\n\nParticipants are encouraged to present their latest research during the ELISS poster session\, providing an opportunity to share ideas\, receive feedback\, and discuss scientific challenges with peers and experts. Bachelor’s\, Master’s\, and PhD students may also take part in the poster competition. \nRegister early to take advantage of the reduced early bird registration fee!
URL:https://laserlab-europe.eu/event/eli-summer-school-2026/
LOCATION:Szeged\, Szeged\, Hungary
CATEGORIES:conference calendar
END:VEVENT
END:VCALENDAR