BEGIN:VCALENDAR
VERSION:2.0
PRODID:-//Laserlab-Europe AISBL - ECPv6.15.20//NONSGML v1.0//EN
CALSCALE:GREGORIAN
METHOD:PUBLISH
X-WR-CALNAME:Laserlab-Europe AISBL
X-ORIGINAL-URL:https://laserlab-europe.eu
X-WR-CALDESC:Events for Laserlab-Europe AISBL
REFRESH-INTERVAL;VALUE=DURATION:PT1H
X-Robots-Tag:noindex
X-PUBLISHED-TTL:PT1H
BEGIN:VTIMEZONE
TZID:Europe/Berlin
BEGIN:DAYLIGHT
TZOFFSETFROM:+0100
TZOFFSETTO:+0200
TZNAME:CEST
DTSTART:20250330T010000
END:DAYLIGHT
BEGIN:STANDARD
TZOFFSETFROM:+0200
TZOFFSETTO:+0100
TZNAME:CET
DTSTART:20251026T010000
END:STANDARD
BEGIN:DAYLIGHT
TZOFFSETFROM:+0100
TZOFFSETTO:+0200
TZNAME:CEST
DTSTART:20260329T010000
END:DAYLIGHT
BEGIN:STANDARD
TZOFFSETFROM:+0200
TZOFFSETTO:+0100
TZNAME:CET
DTSTART:20261025T010000
END:STANDARD
BEGIN:DAYLIGHT
TZOFFSETFROM:+0100
TZOFFSETTO:+0200
TZNAME:CEST
DTSTART:20270328T010000
END:DAYLIGHT
BEGIN:STANDARD
TZOFFSETFROM:+0200
TZOFFSETTO:+0100
TZNAME:CET
DTSTART:20271031T010000
END:STANDARD
END:VTIMEZONE
BEGIN:VEVENT
DTSTART;VALUE=DATE:20260817
DTEND;VALUE=DATE:20260822
DTSTAMP:20260422T232429
CREATED:20260105T084000Z
LAST-MODIFIED:20260105T084000Z
UID:10000297-1786924800-1787356799@laserlab-europe.eu
SUMMARY:European Conference on Few-Body Problems in Physics (EFB26)
DESCRIPTION:The 26th European Conference on Few-Body Problems in Physics (EFB26) will take place in Prague\, Czech Republic\, August 17–21\, 2026. The EFB conference brings together theorists and experimentalists working in the field of few-body systems. Over the years\, the conference has been always open to cover fresh and challenging problems\, expanding its frontiers to emerging directions in particle\, nuclear\, atomic\, and molecular physics. \nTopics\nTopics to be discussed at the conference include: \n\nNuclei and hypernuclei\nHadron physics\nElectroweak processes\nNuclear astrophysics\nCold atoms and quantum gases\nAtoms and molecules\nFew-body methods\nFew-body aspects of many-body systems
URL:https://laserlab-europe.eu/event/european-conference-on-few-body-problems-in-physics-efb26/
LOCATION:Prague\, Prague\, Czech Republic
CATEGORIES:conference calendar
END:VEVENT
END:VCALENDAR