BEGIN:VCALENDAR
VERSION:2.0
PRODID:-//Laserlab-Europe AISBL - ECPv6.15.20//NONSGML v1.0//EN
CALSCALE:GREGORIAN
METHOD:PUBLISH
X-WR-CALNAME:Laserlab-Europe AISBL
X-ORIGINAL-URL:https://laserlab-europe.eu
X-WR-CALDESC:Events for Laserlab-Europe AISBL
REFRESH-INTERVAL;VALUE=DURATION:PT1H
X-Robots-Tag:noindex
X-PUBLISHED-TTL:PT1H
BEGIN:VTIMEZONE
TZID:Europe/Berlin
BEGIN:DAYLIGHT
TZOFFSETFROM:+0100
TZOFFSETTO:+0200
TZNAME:CEST
DTSTART:20250330T010000
END:DAYLIGHT
BEGIN:STANDARD
TZOFFSETFROM:+0200
TZOFFSETTO:+0100
TZNAME:CET
DTSTART:20251026T010000
END:STANDARD
BEGIN:DAYLIGHT
TZOFFSETFROM:+0100
TZOFFSETTO:+0200
TZNAME:CEST
DTSTART:20260329T010000
END:DAYLIGHT
BEGIN:STANDARD
TZOFFSETFROM:+0200
TZOFFSETTO:+0100
TZNAME:CET
DTSTART:20261025T010000
END:STANDARD
BEGIN:DAYLIGHT
TZOFFSETFROM:+0100
TZOFFSETTO:+0200
TZNAME:CEST
DTSTART:20270328T010000
END:DAYLIGHT
BEGIN:STANDARD
TZOFFSETFROM:+0200
TZOFFSETTO:+0100
TZNAME:CET
DTSTART:20271031T010000
END:STANDARD
END:VTIMEZONE
BEGIN:VEVENT
DTSTART;VALUE=DATE:20260706
DTEND;VALUE=DATE:20260710
DTSTAMP:20260422T214859
CREATED:20251125T125931Z
LAST-MODIFIED:20251125T125931Z
UID:10000279-1783296000-1783641599@laserlab-europe.eu
SUMMARY:15th International Meeting on Atomic and Molecular Physics and Chemistry (IMAMPC)
DESCRIPTION:The IMAMPC 2026 will take place at the Paul Scherrer Institute (PSI) in Villigen\, Switzerland\, from 6 to 9 July 2026. \nThe conference continues its tradition of empowering young scientists and fostering interdisciplinary collaborations between atomic and molecular physics and chemistry. Since its inception\, IMAMPC has been organized by and for early-career researchers. \nInvited talks will be given by researchers who have completed their PhD within the past 10 years\, while a select group of experienced scientists will offer Perspective Talks — forward-looking insights into emerging directions in the field\, which will form the main topics of this year’s meeting. \nIMAMPC 2026 will unite theorists and experimentalists\, creating an inspiring space to explore new research directions and collaborations. We look forward to welcoming you to PSI for three days of engaging discussions and discovery in a stimulating scientific environment. \nThe main topics covered during this meeting will include: \n\nUltrafast dynamics and Attosecond science\nReactive collisions\, scattering\, ultracold chemistry and astrochemistry\nMacromolecules and biologically relevant systems\nFree electron laser and synchrotron science
URL:https://laserlab-europe.eu/event/imampc-2026/
LOCATION:Villigen\, Villigen\, Switzerland
CATEGORIES:conference calendar
END:VEVENT
BEGIN:VEVENT
DTSTART;VALUE=DATE:20260706
DTEND;VALUE=DATE:20260711
DTSTAMP:20260422T214859
CREATED:20260302T102035Z
LAST-MODIFIED:20260302T102035Z
UID:10000325-1783296000-1783727999@laserlab-europe.eu
SUMMARY:2nd International Summer School on Structured Light and Matter
DESCRIPTION:The application process for the second edition of the International Summer School on Structured Light and Matter is now open! \nAfter the great success of the first LUMES Summer School in 2025\, which brought together international students who praised both the quality of the courses and the unique experience in Salamanca\, we are excited to launch this new edition. \nJoin us for a one-week school organized by the Structured Light and Matter Research Center (LUMES) at the University of Salamanca\, Spain. This program offers advanced training in three important research areas: structured light\, structured matter\, and light–matter interaction. What is structured light? How can quantum materials help to solve modern problems in energy storage and transport? Why have ultrashort laser pulses changed nanoscience? If you want to learn more about these questions and understand some of the most interesting challenges in optics\, materials science\, magnetism\, and quantum physics\, do not miss the LUMES Summer School! \nOver the 1-week course\, students will attend 11 specialized courses (36 hours in total)\, combining theory\, experimental sessions\, and keynote lectures delivered by international experts: \n\nAlison Yao (University of Strathclyde)\nBurkard Hillebrands (Technical University of Kaiserslautern)\nNuno M. R. Peres (University of Minho)\n\nThe program also includes social activities in Salamanca\, and a visit to the Centro de Láseres Pulsados (CLPU). \nThe school is intended for students in the final years of undergraduate studies in Physics\, Chemistry or Engineering\, as well as Master’s and first-year PhD students in related fields. All activities will be conducted in English. \nParticipation is limited to 15 students! Thanks to our sponsorship from Junta de Castilla y León\, the school has no registration fee\, and it also includes meals and accommodation for all registered students\, and offers travel grants to cover transportation to Salamanca for international students. Applicants can request these limited grants via their motivation letter during registration. \nThe school will take place from July 6th to 10th in Salamanca\, Spain. \nApplications are open until April 10th. \nFor more details (lumes@usal.es) and to apply\, please visit: \n2nd International Summer School on Structured Light and Matter (6-10 July\, 2026)
URL:https://laserlab-europe.eu/event/2nd-international-summer-school-on-structured-light-and-matter/
LOCATION:Salamanca\, Spain
CATEGORIES:conference calendar
END:VEVENT
END:VCALENDAR