BEGIN:VCALENDAR
VERSION:2.0
PRODID:-//Laserlab-Europe AISBL - ECPv6.15.20//NONSGML v1.0//EN
CALSCALE:GREGORIAN
METHOD:PUBLISH
X-WR-CALNAME:Laserlab-Europe AISBL
X-ORIGINAL-URL:https://laserlab-europe.eu
X-WR-CALDESC:Events for Laserlab-Europe AISBL
REFRESH-INTERVAL;VALUE=DURATION:PT1H
X-Robots-Tag:noindex
X-PUBLISHED-TTL:PT1H
BEGIN:VTIMEZONE
TZID:Europe/Berlin
BEGIN:DAYLIGHT
TZOFFSETFROM:+0100
TZOFFSETTO:+0200
TZNAME:CEST
DTSTART:20250330T010000
END:DAYLIGHT
BEGIN:STANDARD
TZOFFSETFROM:+0200
TZOFFSETTO:+0100
TZNAME:CET
DTSTART:20251026T010000
END:STANDARD
BEGIN:DAYLIGHT
TZOFFSETFROM:+0100
TZOFFSETTO:+0200
TZNAME:CEST
DTSTART:20260329T010000
END:DAYLIGHT
BEGIN:STANDARD
TZOFFSETFROM:+0200
TZOFFSETTO:+0100
TZNAME:CET
DTSTART:20261025T010000
END:STANDARD
BEGIN:DAYLIGHT
TZOFFSETFROM:+0100
TZOFFSETTO:+0200
TZNAME:CEST
DTSTART:20270328T010000
END:DAYLIGHT
BEGIN:STANDARD
TZOFFSETFROM:+0200
TZOFFSETTO:+0100
TZNAME:CET
DTSTART:20271031T010000
END:STANDARD
END:VTIMEZONE
BEGIN:VEVENT
DTSTART;VALUE=DATE:20260615
DTEND;VALUE=DATE:20260619
DTSTAMP:20260422T200614
CREATED:20250923T103628Z
LAST-MODIFIED:20250923T103628Z
UID:10000239-1781481600-1781827199@laserlab-europe.eu
SUMMARY:Symposium on Plasma Physics and Technology
DESCRIPTION:
URL:https://laserlab-europe.eu/event/symposium-on-plasma-physics-and-technology/
LOCATION:Prague\, Prague\, Czech Republic
CATEGORIES:conference calendar
END:VEVENT
BEGIN:VEVENT
DTSTART;VALUE=DATE:20260615
DTEND;VALUE=DATE:20260619
DTSTAMP:20260422T200614
CREATED:20260209T093112Z
LAST-MODIFIED:20260209T093112Z
UID:10000313-1781481600-1781827199@laserlab-europe.eu
SUMMARY:Optica Quantum 2.0 Conference and Exhibition
DESCRIPTION:
URL:https://laserlab-europe.eu/event/optica-quantum-2-0-conference-and-exhibition/
LOCATION:Glasgow\, Glasgow\, United Kingdom
CATEGORIES:conference calendar
END:VEVENT
BEGIN:VEVENT
DTSTART;VALUE=DATE:20260615
DTEND;VALUE=DATE:20260619
DTSTAMP:20260422T200614
CREATED:20260310T080053Z
LAST-MODIFIED:20260310T080053Z
UID:10000328-1781481600-1781827199@laserlab-europe.eu
SUMMARY:SLAC/Stanford Ultrafast X-ray Summer School 2026
DESCRIPTION:The school will take place from 15-18 June\, 2026\, and is hosted by the SLAC National Accelerator Laboratory and the Stanford PULSE Institute and co-organized by the Center for Free-Electron Laser Sciences (DESY and University of Hamburg\, Germany) and Paul-Scherrer Institute (Switzerland). \nCore lectures this year will cover: \n\nFundamentals of X-ray free-electron lasers\nTheory of x-ray matter interaction\nAtomic and molecular physics\nUltrafast chemical dynamics\nCondensed matter physics\nStructural biology\nMatter in extreme conditions\n\nIn addition\, special lectures will be on attosecond science\, ultrafast electron diffraction\, resonant inelastic X-ray scattering\, and X-ray correlation spectroscopy. Participants will have the opportunity to tour the Linac Coherent Light Source\, and work in teams to develop their own project ideas. \nQuestions? Contact \n\nbenofori@SLAC.stanford.edu\nUXSS.pulse@gmail.com
URL:https://laserlab-europe.eu/event/slac-stanford-ultrafast-x-ray-summer-school-2026/
CATEGORIES:conference calendar
END:VEVENT
BEGIN:VEVENT
DTSTART;VALUE=DATE:20260615
DTEND;VALUE=DATE:20260619
DTSTAMP:20260422T200614
CREATED:20260401T160247Z
LAST-MODIFIED:20260401T160247Z
UID:10000339-1781481600-1781827199@laserlab-europe.eu
SUMMARY:The International Society of Quantum Biology and Pharmacology President's Meeting
DESCRIPTION:The 2026 International Society of Quantum Biology and Pharmacology President’s meeting will take place on June 15-18 2026 in the historic city of Cluj-Napoca in the heart of Transylvania (Romania). More information can be found at\n\nhttps://isqbp2026.com \n\nThe April 1 deadline for early registration and abstract submission is approaching.  Late registration is open until May 15.
URL:https://laserlab-europe.eu/event/the-international-society-of-quantum-biology-and-pharmacology-presidents-meeting/
LOCATION:Cluj-Napoca\, Romania
CATEGORIES:conference calendar
END:VEVENT
END:VCALENDAR