BEGIN:VCALENDAR
VERSION:2.0
PRODID:-//Laserlab-Europe AISBL - ECPv6.15.20//NONSGML v1.0//EN
CALSCALE:GREGORIAN
METHOD:PUBLISH
X-WR-CALNAME:Laserlab-Europe AISBL
X-ORIGINAL-URL:https://laserlab-europe.eu
X-WR-CALDESC:Events for Laserlab-Europe AISBL
REFRESH-INTERVAL;VALUE=DURATION:PT1H
X-Robots-Tag:noindex
X-PUBLISHED-TTL:PT1H
BEGIN:VTIMEZONE
TZID:Europe/Berlin
BEGIN:DAYLIGHT
TZOFFSETFROM:+0100
TZOFFSETTO:+0200
TZNAME:CEST
DTSTART:20250330T010000
END:DAYLIGHT
BEGIN:STANDARD
TZOFFSETFROM:+0200
TZOFFSETTO:+0100
TZNAME:CET
DTSTART:20251026T010000
END:STANDARD
BEGIN:DAYLIGHT
TZOFFSETFROM:+0100
TZOFFSETTO:+0200
TZNAME:CEST
DTSTART:20260329T010000
END:DAYLIGHT
BEGIN:STANDARD
TZOFFSETFROM:+0200
TZOFFSETTO:+0100
TZNAME:CET
DTSTART:20261025T010000
END:STANDARD
BEGIN:DAYLIGHT
TZOFFSETFROM:+0100
TZOFFSETTO:+0200
TZNAME:CEST
DTSTART:20270328T010000
END:DAYLIGHT
BEGIN:STANDARD
TZOFFSETFROM:+0200
TZOFFSETTO:+0100
TZNAME:CET
DTSTART:20271031T010000
END:STANDARD
END:VTIMEZONE
BEGIN:VEVENT
DTSTART;VALUE=DATE:20260513
DTEND;VALUE=DATE:20260516
DTSTAMP:20260422T180726
CREATED:20251113T124511Z
LAST-MODIFIED:20251113T124704Z
UID:10000273-1778630400-1778889599@laserlab-europe.eu
SUMMARY:TOPFOT 2026
DESCRIPTION:The 21st Optics and Photonics Workshop (TOPFOT) and the 16th Optics and Photonics Student Meeting (EEOF) will be held from 13 to 15 May 2026 at the Faculty of Exact and Natural Sciences of the University of Buenos Aires (FCEyN UBA). \nIn 2026\, EEOF TOPFOT will focus on a strategic axis: the photonics industry\, entrepreneurship\, and transfer from the scientific-technological sector. A space to connect scientific research with social and productive development. \n			\n				\n				\n				\n				\n				TOPFOT CreaThe main objective of TOPFOT Crea is to promote the transformation of scientific ideas into concrete products\, encouraging the creation of business models based on technologies developed in laboratories in the field of optics and photonics. \n			\n				More information
URL:https://laserlab-europe.eu/event/topfot2026/
LOCATION:Buenos Aires\, Buenos Aires\, Argentina
CATEGORIES:conference calendar
END:VEVENT
END:VCALENDAR