BEGIN:VCALENDAR
VERSION:2.0
PRODID:-//Laserlab-Europe AISBL - ECPv6.15.20//NONSGML v1.0//EN
CALSCALE:GREGORIAN
METHOD:PUBLISH
X-ORIGINAL-URL:https://laserlab-europe.eu
X-WR-CALDESC:Events for Laserlab-Europe AISBL
REFRESH-INTERVAL;VALUE=DURATION:PT1H
X-Robots-Tag:noindex
X-PUBLISHED-TTL:PT1H
BEGIN:VTIMEZONE
TZID:Europe/Berlin
BEGIN:DAYLIGHT
TZOFFSETFROM:+0100
TZOFFSETTO:+0200
TZNAME:CEST
DTSTART:20250330T010000
END:DAYLIGHT
BEGIN:STANDARD
TZOFFSETFROM:+0200
TZOFFSETTO:+0100
TZNAME:CET
DTSTART:20251026T010000
END:STANDARD
BEGIN:DAYLIGHT
TZOFFSETFROM:+0100
TZOFFSETTO:+0200
TZNAME:CEST
DTSTART:20260329T010000
END:DAYLIGHT
BEGIN:STANDARD
TZOFFSETFROM:+0200
TZOFFSETTO:+0100
TZNAME:CET
DTSTART:20261025T010000
END:STANDARD
BEGIN:DAYLIGHT
TZOFFSETFROM:+0100
TZOFFSETTO:+0200
TZNAME:CEST
DTSTART:20270328T010000
END:DAYLIGHT
BEGIN:STANDARD
TZOFFSETFROM:+0200
TZOFFSETTO:+0100
TZNAME:CET
DTSTART:20271031T010000
END:STANDARD
END:VTIMEZONE
BEGIN:VEVENT
DTSTART;VALUE=DATE:20260505
DTEND;VALUE=DATE:20260508
DTSTAMP:20260422T175320
CREATED:20251211T104624Z
LAST-MODIFIED:20260106T085814Z
UID:10000289-1777939200-1778198399@laserlab-europe.eu
SUMMARY:LINX 2026 - From UV to X-ray Spectroscopy in Liquids and Soft Matter: Linear and Nonlinear Interactions workshop
DESCRIPTION:LINX 2026 – From UV to X-ray Spectroscopy in Liquids and Soft Matter: Linear and Nonlinear Interactions\, will take place 5–7 May 2026 at the Max Planck Institute for Nuclear Physics in Heidelberg\, Germany. \n📣 Call for Abstracts – Deadline: 15 February 2026 \nAbstracts must be submitted via: https://plan.events.mpg.de/event/592/abstracts/\nPlease make sure to carefully follow the formatting and file-naming guidelines. \n📝 Registration Now Open \nRegistration for LINX 2026 is now open. Participation in the workshop is free of charge. Please note that all attendees must be registered members of COST Action NEXT (CA22148) in order to complete the conference registration: https://plan.events.mpg.de/event/592/page/76-general-registration-info \nDuring registration\, participants may reserve three on-site lunches. As the venue is located outside the city centre and there are no nearby dining options\, reserving lunches is strongly recommended. \n🎓 Travel Grants for Young Researchers \nTravel grants will be offered to young researchers presenting an oral or poster contribution. Please note that the final number of travel grants will depend on the availability of funds. Selection will be based on career stage/age\, country of origin (with priority given to ITC countries)\, and gender balance. A motivation letter will be requested during the registration process. \nDetailed submission instructions\, registration information\, and the abstract template can be found on the workshop webpage:\nhttps://plan.events.mpg.de/e/linx2026
URL:https://laserlab-europe.eu/event/linx-2026-from-uv-to-x-ray-spectroscopy-in-liquids-and-soft-matter-linear-and-nonlinear-interactions-workshop/
LOCATION:Heidelberg\, Heidelberg\, Germany
CATEGORIES:conference calendar
END:VEVENT
END:VCALENDAR