BEGIN:VCALENDAR
VERSION:2.0
PRODID:-//Laserlab-Europe AISBL - ECPv6.15.20//NONSGML v1.0//EN
CALSCALE:GREGORIAN
METHOD:PUBLISH
X-WR-CALNAME:Laserlab-Europe AISBL
X-ORIGINAL-URL:https://laserlab-europe.eu
X-WR-CALDESC:Events for Laserlab-Europe AISBL
REFRESH-INTERVAL;VALUE=DURATION:PT1H
X-Robots-Tag:noindex
X-PUBLISHED-TTL:PT1H
BEGIN:VTIMEZONE
TZID:Europe/Berlin
BEGIN:DAYLIGHT
TZOFFSETFROM:+0100
TZOFFSETTO:+0200
TZNAME:CEST
DTSTART:20250330T010000
END:DAYLIGHT
BEGIN:STANDARD
TZOFFSETFROM:+0200
TZOFFSETTO:+0100
TZNAME:CET
DTSTART:20251026T010000
END:STANDARD
BEGIN:DAYLIGHT
TZOFFSETFROM:+0100
TZOFFSETTO:+0200
TZNAME:CEST
DTSTART:20260329T010000
END:DAYLIGHT
BEGIN:STANDARD
TZOFFSETFROM:+0200
TZOFFSETTO:+0100
TZNAME:CET
DTSTART:20261025T010000
END:STANDARD
BEGIN:DAYLIGHT
TZOFFSETFROM:+0100
TZOFFSETTO:+0200
TZNAME:CEST
DTSTART:20270328T010000
END:DAYLIGHT
BEGIN:STANDARD
TZOFFSETFROM:+0200
TZOFFSETTO:+0100
TZNAME:CET
DTSTART:20271031T010000
END:STANDARD
END:VTIMEZONE
BEGIN:VEVENT
DTSTART;VALUE=DATE:20260419
DTEND;VALUE=DATE:20260425
DTSTAMP:20260420T014200
CREATED:20251028T145917Z
LAST-MODIFIED:20251028T145917Z
UID:10000252-1776556800-1777075199@laserlab-europe.eu
SUMMARY:GRC Molecular and Ionic Clusters:  Bridging Gas Phase and Condensed Matter Through Cluster Science
DESCRIPTION:2026 Molecular and Ionic Clusters GRC\nApril 19-14\, 2026\, in Tuscany\, Italy\n\nDear Colleagues\,\n\nWe are delighted to invite you and your research groups to the 2026 Gordon Research Conference on Molecular and Ionic Clusters\, taking place April 19-24\, 2026 at the Renaissance Il Ciocco Hotel in Tuscany\, Italy.\n\nTheme: Bridging Gas Phase and Condensed Matter Through Cluster Science\n\nThis premier international conference brings together leading and early career researchers to explore cutting-edge developments spanning the full range of cluster science—from atomically precise clusters to aerosols\, and from fundamental quantum phenomena to applications in catalysis\, atmospheric chemistry\, and biomolecular processes.\n\nConference Highlights\n\n   •	Exceptional program featuring world-renowned researchers across nine topical sessions\n   •	Four poster sessions for in-depth scientific exchange\n   •	Ample time for discussion after each talk\n   •	Informal networking during afternoon free time and communal meals\n   •	Stunning venue in the hills of Tuscany\, Italy —one of the most beautiful GRC locations\n   •	Preceded by a Gordon Research Seminar (GRS) for early career researchers\n\nImportant Dates\n   •	Application Deadline: March 22\, 2026\n   •	Conference Dates: April 19-24\, 2026\n\nApply early! Many GRCs become oversubscribed before the deadline.\n\nHow to Register\n\nVisit: https://www.grc.org/molecular-and-ionic-clusters-conference/2026/\n\n\nEarly career researchers are strongly encouraged to also apply for the associated Gordon Research Seminar (GRS). Financial assistance may be available through the Carl Storm Opportunity Fellowships program.\n\nConference Chairs: Stuart R. Mackenzie (University of Oxford\, UK) and Laura M. McCaslin (Sandia National Laboratories\, USA)\nVice Chairs: Evangelos Miliordos (Auburn University\, USA) and Bernd Von Issendorff (Freiburg University\, Germany)\n\nWe look forward to welcoming you to Tuscany for what promises to be an outstanding scientific meeting at the forefront of cluster science!\n\nBest regards\,\n\nStuart R. Mackenzie and Laura M. McCaslin Conference Co-Chairs\n(Milena Barp\, Erica Bocanegra\, GRS Co-Chairs)
URL:https://laserlab-europe.eu/event/grc-molecular-and-ionic-clusters-bridging-gas-phase-and-condensed-matter-through-cluster-science/
LOCATION:Lucca\, Lucca\, Italy
CATEGORIES:conference calendar
END:VEVENT
BEGIN:VEVENT
DTSTART;VALUE=DATE:20260420
DTEND;VALUE=DATE:20260425
DTSTAMP:20260420T014200
CREATED:20251104T105358Z
LAST-MODIFIED:20251104T105358Z
UID:10000257-1776643200-1777075199@laserlab-europe.eu
SUMMARY:Nanoscale and Microscale Heat Transfer IX - NMHT 2026
DESCRIPTION:
URL:https://laserlab-europe.eu/event/nanoscale-and-microscale-heat-transfer-ix-nmht-2026/
LOCATION:Berlin\, Gustav-Kirchhoff-Straße 4\, Berlin\, 12489\, Germany
CATEGORIES:conference calendar
END:VEVENT
BEGIN:VEVENT
DTSTART;VALUE=DATE:20260420
DTEND;VALUE=DATE:20260425
DTSTAMP:20260420T014200
CREATED:20260305T073420Z
LAST-MODIFIED:20260305T073420Z
UID:10000326-1776643200-1777075199@laserlab-europe.eu
SUMMARY:School and Workshop on Quantum Science and Technology
DESCRIPTION:CUANTOS 8 is a school and workshop dedicated to quantum science and technology\, aimed at advanced students\, PhD candidates\, postdoctoral researchers\, and scientists working on the foundations and applications of quantum mechanics. \nThe eighth edition will take place at the Centro Atómico Bariloche and will combine intensive training activities with scientific exchange\, in an environment conducive to discussion and collaboration. \nActivities\nThe CUANTOS 8 program will take place over five days and will include: \n\nSix courses / tutorials delivered by researchers of recognized expertise\, with a graduate-level focus.\nShort contributed talks by participants\, with special emphasis on presentations by PhD students and early-career researchers.\nDedicated spaces for scientific discussion\, exchange of ideas\, and interaction among participants.\n\nContributed talks will be presented in oral format and will constitute the main forum for the presentation and discussion of scientific results. \nTopics covered\nThe areas addressed during the school and workshop will include\, among others: \n\nQuantum computation and quantum information\nBosonic codes and quantum error correction\nColor centers and solid-state quantum platforms\nMechanical systems in the quantum regime\nCavity quantum materials\nQuantum thermodynamics and open quantum systems\n\nThe program aims to reflect the interdisciplinary nature of the field and to connect theoretical developments with relevant experimental platforms. \nMore information: https://sites.google.com/view/cuantos8
URL:https://laserlab-europe.eu/event/school-and-workshop-on-quantum-science-and-technology/
LOCATION:San Carlos de Bariloche\, San Carlos de Bariloche\, Argentina
CATEGORIES:conference calendar
END:VEVENT
END:VCALENDAR