BEGIN:VCALENDAR
VERSION:2.0
PRODID:-//Laserlab-Europe AISBL - ECPv6.15.20//NONSGML v1.0//EN
CALSCALE:GREGORIAN
METHOD:PUBLISH
X-ORIGINAL-URL:https://laserlab-europe.eu
X-WR-CALDESC:Events for Laserlab-Europe AISBL
REFRESH-INTERVAL;VALUE=DURATION:PT1H
X-Robots-Tag:noindex
X-PUBLISHED-TTL:PT1H
BEGIN:VTIMEZONE
TZID:Europe/Berlin
BEGIN:DAYLIGHT
TZOFFSETFROM:+0100
TZOFFSETTO:+0200
TZNAME:CEST
DTSTART:20240331T010000
END:DAYLIGHT
BEGIN:STANDARD
TZOFFSETFROM:+0200
TZOFFSETTO:+0100
TZNAME:CET
DTSTART:20241027T010000
END:STANDARD
BEGIN:DAYLIGHT
TZOFFSETFROM:+0100
TZOFFSETTO:+0200
TZNAME:CEST
DTSTART:20250330T010000
END:DAYLIGHT
BEGIN:STANDARD
TZOFFSETFROM:+0200
TZOFFSETTO:+0100
TZNAME:CET
DTSTART:20251026T010000
END:STANDARD
BEGIN:DAYLIGHT
TZOFFSETFROM:+0100
TZOFFSETTO:+0200
TZNAME:CEST
DTSTART:20260329T010000
END:DAYLIGHT
BEGIN:STANDARD
TZOFFSETFROM:+0200
TZOFFSETTO:+0100
TZNAME:CET
DTSTART:20261025T010000
END:STANDARD
END:VTIMEZONE
BEGIN:VEVENT
DTSTART;VALUE=DATE:20251020
DTEND;VALUE=DATE:20251025
DTSTAMP:20260424T023653
CREATED:20250403T103705Z
LAST-MODIFIED:20250403T103705Z
UID:10000161-1760918400-1761350399@laserlab-europe.eu
SUMMARY:Astrochemistry in the Broadband Era Workshop
DESCRIPTION:
URL:https://laserlab-europe.eu/event/astrochemistry-in-the-broadband-era-workshop/
LOCATION:Portland\, Portland\, United States
CATEGORIES:conference calendar
END:VEVENT
BEGIN:VEVENT
DTSTART;VALUE=DATE:20251021
DTEND;VALUE=DATE:20251025
DTSTAMP:20260424T023653
CREATED:20250819T091749Z
LAST-MODIFIED:20250819T091749Z
UID:10000223-1761004800-1761350399@laserlab-europe.eu
SUMMARY:Astrochemistry: From Quantum to Cosmos
DESCRIPTION:
URL:https://laserlab-europe.eu/event/astrochemistry-from-quantum-to-cosmos/
LOCATION:Nijmegen\, Nijmegen
CATEGORIES:conference calendar
END:VEVENT
BEGIN:VEVENT
DTSTART;TZID=Europe/Berlin:20251024T113000
DTEND;TZID=Europe/Berlin:20251024T130000
DTSTAMP:20260424T023653
CREATED:20251013T074715Z
LAST-MODIFIED:20251013T074715Z
UID:10000248-1761305400-1761310800@laserlab-europe.eu
SUMMARY:Meeting of the Expert Group 'Lasers for clean Energy'
DESCRIPTION:Members of the expert group have received the meeting link by email. \nIf you are interested in joining this expert group meeting\, please contact Giulio Cerullo (POLIMI) and Panagiotis Loukakos (ULF-FORTH).
URL:https://laserlab-europe.eu/event/eg-energy-24-10-2025/
LOCATION:Online
CATEGORIES:expert group clean energy,laserlab-europe events
ATTACH;FMTTYPE=image/png:https://laserlab-europe.eu/wp-content/uploads/eg-clean-energy_news-item.png
END:VEVENT
END:VCALENDAR