BEGIN:VCALENDAR
VERSION:2.0
PRODID:-//Laserlab-Europe AISBL - ECPv6.15.20//NONSGML v1.0//EN
CALSCALE:GREGORIAN
METHOD:PUBLISH
X-WR-CALNAME:Laserlab-Europe AISBL
X-ORIGINAL-URL:https://laserlab-europe.eu
X-WR-CALDESC:Events for Laserlab-Europe AISBL
REFRESH-INTERVAL;VALUE=DURATION:PT1H
X-Robots-Tag:noindex
X-PUBLISHED-TTL:PT1H
BEGIN:VTIMEZONE
TZID:Europe/Berlin
BEGIN:DAYLIGHT
TZOFFSETFROM:+0100
TZOFFSETTO:+0200
TZNAME:CEST
DTSTART:20240331T010000
END:DAYLIGHT
BEGIN:STANDARD
TZOFFSETFROM:+0200
TZOFFSETTO:+0100
TZNAME:CET
DTSTART:20241027T010000
END:STANDARD
BEGIN:DAYLIGHT
TZOFFSETFROM:+0100
TZOFFSETTO:+0200
TZNAME:CEST
DTSTART:20250330T010000
END:DAYLIGHT
BEGIN:STANDARD
TZOFFSETFROM:+0200
TZOFFSETTO:+0100
TZNAME:CET
DTSTART:20251026T010000
END:STANDARD
BEGIN:DAYLIGHT
TZOFFSETFROM:+0100
TZOFFSETTO:+0200
TZNAME:CEST
DTSTART:20260329T010000
END:DAYLIGHT
BEGIN:STANDARD
TZOFFSETFROM:+0200
TZOFFSETTO:+0100
TZNAME:CET
DTSTART:20261025T010000
END:STANDARD
END:VTIMEZONE
BEGIN:VEVENT
DTSTART;VALUE=DATE:20250929
DTEND;VALUE=DATE:20251002
DTSTAMP:20260423T231613
CREATED:20250717T100336Z
LAST-MODIFIED:20250717T100336Z
UID:10000213-1759104000-1759363199@laserlab-europe.eu
SUMMARY:International Autumn School on CP2K-GROMACS for Multiscale Atomistic Simulation
DESCRIPTION:
URL:https://laserlab-europe.eu/event/international-autumn-school-on-cp2k-gromacs-for-multiscale-atomistic-simulation/
LOCATION:Paderborn\, Paderborn\, Germany
CATEGORIES:conference calendar
END:VEVENT
BEGIN:VEVENT
DTSTART;VALUE=DATE:20250929
DTEND;VALUE=DATE:20251004
DTSTAMP:20260423T231613
CREATED:20250812T135707Z
LAST-MODIFIED:20250812T135707Z
UID:10000220-1759104000-1759535999@laserlab-europe.eu
SUMMARY:International School: Quantum Chemistry of Excited States
DESCRIPTION:
URL:https://laserlab-europe.eu/event/international-school-quantum-chemistry-of-excited-states/
LOCATION:Cluj\, Cluj\, Romania
CATEGORIES:conference calendar
END:VEVENT
BEGIN:VEVENT
DTSTART;TZID=Europe/Berlin:20250929T170000
DTEND;TZID=Europe/Berlin:20250929T183000
DTSTAMP:20260423T231613
CREATED:20250916T093910Z
LAST-MODIFIED:20250916T093910Z
UID:10000238-1759165200-1759170600@laserlab-europe.eu
SUMMARY:Fels of Europe tutorial: Ultrafast dynamics in quantum materials revealed by time-resolved soft x-ray spectroscopies
DESCRIPTION:After a longer break we would like to invite you to the next focus tutorial of the Fels of Europe tutorial series on 29 September 2025 at 17:00 CEST  \nJustine Schlappa (European XFEL): “Ultrafast dynamics in quantum materials revealed by time-resolved soft x-ray spectroscopies” \nIf you are interested in the FELs of Europe tutorials\, please register at www.desy.de/foetutorials \nIMPORTANT NOTE: You will be receiving the Zoom-link along with your registration confirmation via Email. \nLed by distinguished scholars in the field\, these tutorials specifically address younger members of the FEL community and introduce hot topics in the field of FEL science with larger depth than usually possible in conference talks. They are organized by FELs of Europe together with the LEAPS Strategy Group on FELs. For additional and future information please check out the FELs of Europe website https://www.fels-of-europe.eu/ and the LEAPS website https://leaps-initiative.eu/ . Hoping to include interested scientists from all over the world\, the tutorials usually take place on the first Monday of every other month at 17:00 (CEST). Please spread the word\, particularly to younger colleagues in your institutions. Looking forward to seeing you online. \nKind regards\, Serguei Molodtsov\, John Bozek\, and Elke Plönjes
URL:https://laserlab-europe.eu/event/fels-of-europe-tutorial-ultrafast-dynamics-in-quantum-materials-revealed-by-time-resolved-soft-x-ray-spectroscopies/
CATEGORIES:conference calendar
END:VEVENT
END:VCALENDAR