BEGIN:VCALENDAR
VERSION:2.0
PRODID:-//Laserlab-Europe AISBL - ECPv6.15.20//NONSGML v1.0//EN
CALSCALE:GREGORIAN
METHOD:PUBLISH
X-WR-CALNAME:Laserlab-Europe AISBL
X-ORIGINAL-URL:https://laserlab-europe.eu
X-WR-CALDESC:Events for Laserlab-Europe AISBL
REFRESH-INTERVAL;VALUE=DURATION:PT1H
X-Robots-Tag:noindex
X-PUBLISHED-TTL:PT1H
BEGIN:VTIMEZONE
TZID:Europe/Berlin
BEGIN:DAYLIGHT
TZOFFSETFROM:+0100
TZOFFSETTO:+0200
TZNAME:CEST
DTSTART:20250330T010000
END:DAYLIGHT
BEGIN:STANDARD
TZOFFSETFROM:+0200
TZOFFSETTO:+0100
TZNAME:CET
DTSTART:20251026T010000
END:STANDARD
BEGIN:DAYLIGHT
TZOFFSETFROM:+0100
TZOFFSETTO:+0200
TZNAME:CEST
DTSTART:20260329T010000
END:DAYLIGHT
BEGIN:STANDARD
TZOFFSETFROM:+0200
TZOFFSETTO:+0100
TZNAME:CET
DTSTART:20261025T010000
END:STANDARD
BEGIN:DAYLIGHT
TZOFFSETFROM:+0100
TZOFFSETTO:+0200
TZNAME:CEST
DTSTART:20270328T010000
END:DAYLIGHT
BEGIN:STANDARD
TZOFFSETFROM:+0200
TZOFFSETTO:+0100
TZNAME:CET
DTSTART:20271031T010000
END:STANDARD
END:VTIMEZONE
BEGIN:VEVENT
DTSTART;VALUE=DATE:20260526
DTEND;VALUE=DATE:20260529
DTSTAMP:20260421T174322
CREATED:20260421T122706Z
LAST-MODIFIED:20260421T122706Z
UID:8680-1779753600-1780012799@laserlab-europe.eu
SUMMARY:Optics and Photonics Days 2026
DESCRIPTION:Optics and Photonics Days (OPD) is an annual central event in Optics and Photonics in Finland and the largest yearly Photonics event in the Nordics. \nOPD2026 will be held 26. – 28. May 2026 in Jyväskylä\, Finland. \nOPD offers an unique opportunity to learn from interesting presentations from Academy and Industry program running in parallel\, network with companies\, students and researchers in the field of photonics and optics\, but also to explore products and services at OPD Exhibition that is held during the conference. \nAcademic program themes: \n\nSensing and imaging\nNovel photonic devices\nMaterials and processing\nFundamental photonics (classical and quantum)\n\nIndustry topics: \n\nPhotonics in Augmented Reality\nPICs & Quantum Photonics\nPhotonics for Dual-Use Applications\nOptical Measurements & AI for Industry\n\nAlso there is a lot of additional activities such as Networking Dinner\, Job Fair\, Student meeting\, PREIN Annual Event\, Photonics Finland annual meeting\, Panel discussions\, Media event and also Poster- and Pitch sessions.
URL:https://laserlab-europe.eu/event/optics-and-photonics-days-2026/
LOCATION:Jyväskylä\, Jyväskylä\, Finland
CATEGORIES:conference calendar
END:VEVENT
END:VCALENDAR